Workbook

Sheet OBLIGACIONES
B4: SERVICIO REGIONAL DE SALUD
B5: DIRECCIÓN DE FISCALIZACIÓN Y CONTROL
B6: DETALLE OBLIGACIONES CONTRAÍDAS PENDIENTES AL 31/08/2025
B7: ESTABLECIMIENTO: HOSPITAL REGIONAL ING. LUIS L. BOGAERT
B8: A | C8: B | E8: C | F8: D | G8: E | H8: F
B9: TIPO | C9: PERÍODO | F9: STATUS PRESTAMO
C10: DESDE | D10: HASTA | E10: MONTO | F10: MONTO ORIGEN | G10: MONTO AMORTIZADO | H10: BALANCE PENDIENTE
B11: PROMESE CAL | C11: 45870 | D11: 45900 | E11: 0
B12: RETENCIONES DE IMPUESTOS (DGII) | C12: 45870 | D12: 45900 | E12: 72495.35
B13: APROVISIONAMIENTOS DE INCENTIVOS | C13: 45870 | D13: 45900 | E13: 465113.39
B14: SEGURIDAD SOCIAL | C14: 45870 | D14: 45900 | E14: 0
B15: APROVISIONAMIENTO DE REGALIA PASCUAL | C15: 45870 | D15: 45900 | E15: 0
B16: PRESTACIONES LABORALES | C16: 45870 | D16: 45900 | E16: 0
B17: VIATICOS | C17: 45870 | D17: 45900 | E17: 24100
B18: PRÉSTAMOS Y/O ANTICIPOS FINANCIEROS OTORGADOS POR SENASA | C18: 45870 | D18: 45900 | E18: 0
B19: TOTAL | E19: =SUM(E11:E18) -> 561708.74
B21: Nota. En el caso de las columnas D, E y F, solo aplican para llenado de los préstamos otogados por SENASA.
B26: PREPARADO POR: | C26: REVISADO POR: | F26: APROBADO POR:
B27: Jenniffer Rodríguez Lic. Jean Flores Dr. Newton Solano
B29: Enc. Depto. De Contbailidad | C29: Administrador | F29: Director General

Sheet INGRESOS SEGUN ORIGEN
A3: Servicio Nacional de Salud
A4: Dirección de Fiscalización y Control
A5: Comportamiento de Ingresos Percibidos Segregados según Origen
A6: Establecimiento: HOSPITAL REGIONAL ING. LUIS L. BOGAERT Mes: AGOSTO Año: 2025 SRS: 04
A7: Origen | B7: ARS | C7: Fecha depópsito | D7: Núm. de Documento de referencia | E7: Valor de Transferencia o Cheque
A8: Anticipo Financiero | B8: FONDO REPONIBLE | C8: 45876 | D8: 4524000051 | E8: 2499969.1
A9: Sub-Total | E9: =E8 -> 2499969.1
B10: SENASA SUBSIDIADO | C10: 45870 | D10: 4524000182 | E10: 4186258.3
B11: Odontología (subsidio SeNaSa) | C11: 45870 | D11: 4524000137 | E11: 15000
B12: SENASA CONTRIBUTIVO | C12: 45873 | D12: 4524000024 | E12: 321230.8
B13: SENASA CONTRIBUTIVO | C13: 45876 | D13: 4524000003 | E13: 88000
B14: SENASA CONTRIBUTIVO | C14: 45877 | D14: 4524000015 | E14: 22466.78
B15: PRIMERA DE HUMANO | C15: 45891 | D15: 3580010066 | E15: 18178
A16: Sub-Total | E16: =SUM(E10:E15) -> 4651133.9
A17: Otros Aportes | B17: Cafetería | E17: 0
B18: Odontologia (facturacion servicios no contemplado en Plan Basico) | C18: 45870 | D18: 2000110061 | E18: 8600
B19: Odontologia (facturacion servicios no contemplado en Plan Basico) | C19: 45873 | D19: 3580050400 | E19: 9000
B20: Odontologia (facturacion servicios no contemplado en Plan Basico) | C20: 45874 | D20: 3580050042 | E20: 8300
B21: Odontologia (facturacion servicios no contemplado en Plan Basico) | C21: 45875 | D21: 3580050035 | E21: 10200
B22: Odontologia (facturacion servicios no contemplado en Plan Basico) | C22: 45876 | D22: 3580020030 | E22: 8200
B23: Odontologia (facturacion servicios no contemplado en Plan Basico) | C23: 45877 | D23: 3580050020 | E23: 6800
B24: Odontologia (facturacion servicios no contemplado en Plan Basico) | C24: 45880 | D24: 3580080339 | E24: 7900
B25: Odontologia (facturacion servicios no contemplado en Plan Basico) | C25: 45881 | D25: 3580070067 | E25: 8500
B26: Odontologia (facturacion servicios no contemplado en Plan Basico) | C26: 45882 | D26: 3580050042 | E26: 8800
B27: Odontologia (facturacion servicios no contemplado en Plan Basico) | C27: 45883 | D27: 3580020044 | E27: 11800
B28: Odontologia (facturacion servicios no contemplado en Plan Basico) | C28: 45884 | D28: 3580070070 | E28: 18900
B29: Odontologia (facturacion servicios no contemplado en Plan Basico) | C29: 45887 | D29: 3580060054 | E29: 15800
... B42: Atenciones a pacientes extranjeros | C42: 45894 | D42: 3580080419 | E42: 9000
B43: Otros ingresos no identificados precedentemente | E43: 0
A44: Sub-Total | E44: =SUM(E17:E43) -> 237300
A45: Total General | E45: =E9+E16+E44 -> 7388403
A47: Bajo las funciones que nos asisten certificamos que el valor de los ingresos percibidos al 31 de agosto 2025 correspondieron a un monto de RD$ Siete Millones Trecientos Ochenta y Ocho Mil Cuatrocientos Dos Pesos Con 98 /100 (RD$7,388,402.98)
A50: Dado a los 31 dias del mes de agosto del año 2025.
A52: Cuenta Núm. | B52: Balance en libro | C52: Balance en Banco | D52: Balance Conciliado
A53: 2001037435 | B53: 7626912.5 | C53: 7626912.5 | D53: 7626912.5
A54: 2001042102 | B54: 7274.89 | C54: 7274.89 | D54: 7274.89
A58: Preparado por: Lic. Jenniffer Rodríguez | D58: Revisado por: Lic. Jean Flores
A59: ____________________________________ | D59: ___________________________________
A62: Aprobado por: Dr. Newton Solano
A63: ________________________________

Sheet LISTADO DE ORDENES
A3: Republica Dominicana
A4: SERVICIO NACIONAL DE SALUD
A5: LISTADO DE ORDENES DE COMPRAS O SERVICIOS EFECTUADAS DURANTE EL MES: AGOSTO-2025
A6: ESTABLECIMIENTO: Hospital Regional Ing. Luis L. Bogaert REGION : 4
A7: Fecha | B7: Referencia Proceso de Compra | C7: No. Orden de Compra o Servicios | D7: No. De Factura Fiscal NCF | E7: Fuente. Financ (FR-VS) | F7: Beneficiario | G7: Rubro | H7: No. Cta. Objetal del Gasto | I7: Valor
A8: 45891 | B8: CM-2025-0004 | C8: 400-2025 | D8: B1500000285 | E8: VS | F8: RONNY PUBLICIADA SRL | G8: Confección de Letrero | H8: 2221-01 | I8: 283200
A9: 45863 | C9: 546-2025 | D9: B1500000164 | E9: VS | F9: CHAVES INDUST.WILMIN CHAVEZ | G9: Confeccion de Puertas(2712-01) | H9: 2712-01 | I9: 140560
A10: 45870 | C10: 552-2025 | D10: B1500001337 | E10: FR | F10: MIX AIR DOMINICANA | G10: Suministro de Oxigeno | H10: 2372-03 | I10: 153500
A11: 45870 | C11: 553-2025 | D11: B1500000656 | E11: VS | F11: TIO DEPOSITO DENTAL | G11: Suministro de Odontologia | H11: 2393-01 | I11: 166585.05
A12: 45870 | C12: 554-2025 | D12: E450000000044 | E12: VS | F12: FARMACIA ELYFIOR | G12: Suministros de Medicamentos | H12: 2341-01 | I12: 885.9
A13: 45870 | C13: 555-2025 | D13: B1500000297 | E13: VS | F13: CAMESUP | G13: Papel de Camilla y Sum. Quirurgico | H13: 2332-01-2393-01 | I13: 56350
A14: 45870 | C14: 556-2025 | D14: B1500001652 | E14: FR | F14: HEXAPOWER PHARMA | G14: Suministros de Medicamentos | H14: 2341-01 | I14: 107900
A15: 45870 | C15: 557-2025 | D15: E450000000142 | E15: FR | F15: MEDI-SAN | G15: TIRILLAS | H15: 2393-01 | I15: 73632
A16: 45870 | C16: 558-2025 | D16: E450000000143 | E16: VS | F16: MEDI-SAN | G16: Medicamentos y Mat. Quirurgico | H16: 2341-01-2393-01 | I16: 239620
A17: 45870 | C17: 559-2025 | D17: B1500001401 | E17: FR | F17: ZEN PHARMACEUTHICAL | G17: Sum. Quirurgicos | H17: 2393-01 | I17: 111156.2
A18: 45870 | C18: 560-2025 | D18: E450000000275 | E18: FR | F18: HOSPIFAR,SRL | G18: Insumos y React.de Laboratorio | H18: 2393-01 | I18: 77493.01
A19: 45870 | C19: 561-2025 | D19: E450000000277 | E19: FR | F19: HOSPIFAR,SRL | G19: Sum. Quirurgicos | H19: 2393-01 | I19: 87839.2
A20: 45870 | C20: 562-2025 | D20: B1500001477 | E20: FR | F20: NIFARMED | G20: Medicamentos y Mat. Quirurgico | H20: 2341-01-2393-01 | I20: 167900
... A23: 45870 | C23: 565-2025 | D23: B1500000665 | E23: VS | F23: DELMEDICAL | G23: Suministros de Medicamentos | H23: 2341-01 | I23: 28284.4
A24: 45870 | C24: 566-2025 | D24: E450000007351 | E24: VS | F24: BIO-NUCLEAR | G24: Reactivos de Laboratorio | H24: 2372-03 | I24: =238261.4 -> 238261.4
A25: 45870 | C25: 567-2025 | D25: B1500017548 | E25: VS | F25: BIO-NOVA | G25: Reactivos de Laboratorio | H25: 2372-03 | I25: 34826.3
A26: 45871 | C26: 568-2025 | D26: E450000004218 | E26: FR | F26: INAPA | G26: Servicios de Agua Potable | H26: 2217-01 | I26: 18500
A27: 45873 | C27: 569-2025 | D27: E450000000065 | E27: FR | F27: ULTRALAB | G27: Reactivos de Laboratorio | H27: 2372-03 | I27: 103732.21
A28: 45873 | C28: 570-2025 | D28: B1500001193 | E28: FR | F28: SILVER PHARMA | G28: Suministros de Medicamentos | H28: 2341-01 | I28: 79700
A29: 45873 | C29: 571-2025 | D29: B1500008268 | E29: FR | F29: ALMANZAR ESTEVEZ | G29: Reactivos de Laboratorio | H29: 2372-03 | I29: 128606.47
A30: 45873 | C30: 572-2025 | D30: B1500008269 | E30: FR | F30: ALMANZAR ESTEVEZ | G30: Reactivos de Laboratorio | H30: 2372-03 | I30: 240003.08
A31: 45873 | C31: 573-2025 | D31: B1500008270 | E31: FR | F31: ALMANZAR ESTEVEZ | G31: Reactivos de Laboratorio | H31: 2372-03 | I31: 239125.89
A32: 45873 | C32: 574-2025 | D32: E450000000103 | E32: FR | F32: SEAN DOMINICAN | G32: Suministros de Medicamentos | H32: 2341-01 | I32: 239000
C33: 575-2025 | F33: PORTAL(VRF) | G33: PORTAL(VRF)
A34: 45873 | C34: 576-2025 | D34: B1500000045 | E34: FR | F34: LAHMEDOM | G34: Papel de Imágenes P/Rayos x | H34: 2393-01 | I34: 239540
A35: 45874 | C35: 577-2025 | D35: E450000017032 | E35: FR | F35: ALTICE DOMINICANA | G35: Servicio de Telefono | H35: 2213-01 | I35: 101793.04
A36: 45875 | C36: 578-2025 | D36: E450000000251 | E36: FR | F36: AGROFEN | G36: Alimentos | H36: 2311-01 | I36: 27120
A37: 45875 | C37: 579-2025 | D37: E450000000252 | E37: FR | F37: AGROFEN | G37: Alimentos | H37: 2311-01 | I37: 55580
A38: 45875 | C38: 580-2025 | D38: E450000000148 | E38: VS | F38: MEDI-SAN | G38: Sum. Quirurgicos | H38: 2393-01 | I38: 5760
A39: 45875 | C39: 581-2025 | D39: B1500000003 | E39: VS | F39: SUPLITODO RD GAMVESA | G39: Alimentos | H39: 2311-01 | I39: 206807.77
A40: 45874 | C40: 582-2025 | D40: B1500000163 | E40: VS | F40: CARLOS OVIDIO GENAO | G40: Alimentos Y Utensilios de Cocina | H40: 2311-01-2395-01 | I40: 57975.65
A41: 45874 | C41: 583-2025 | D41: B1500001824 | E41: VS | F41: SUPERMERCADO MAEÑO | G41: Alimentos Y Utensilios de Cocina | H41: 2311-01-2395-01 | I41: 163169
A42: 45870 | C42: 584-2025 | D42: B1500000911 | E42: VS | F42: MAO CENTRAL CONNECTIONS | G42: Servicios de Internet | H42: 2215-01 | I42: 5495
A43: 45875 | C43: 585-2025 | D43: E450000000145 | E43: VS | F43: LAMBDA DIAGNOSTICOS | G43: Reactivos de Laboratorio | H43: 2372-03 | I43: 15220.98
A44: 45875 | C44: 586-2025 | D44: E450000003528 | E44: VS | F44: SUED & FARGESA | G44: Reactivos de Laboratorio | H44: 2372-03 | I44: 560740.62
...

Sheet CUENTAS X PAGAR
A1: SERVICIO NACIONAL DE SALUD
A2: DIRECCION DE FISCALIZACION Y CONTROL
A3: COMPROMISOS DE DEUDAS AÑO 2025
A5: ESTABLECIMIENTO: HOSPITAL REGIONAL ING. LUIS L. BOGAERT | M5: SRS: 4 | N5: MES REPORTADO | O5: MES REPORTADO: | P5: ABRIL | Q5: MES REPORTADO | R5: AGOSTO
A7: NO | B7: NOMBRES PROVEEDOR | C7: CONCEPTO DE COMPRA ( BREVE DESCRIPCION ) | D7: FUENTE DE FINANCIAMIENTO | E7: MONTO AÑO≤2014 | F7: MONTO AÑO 2015 | G7: MONTO AÑO 2016 | H7: MONTO AÑO 2017 | I7: MONTO AÑO 2018 | J7: MONTO AÑO 2019 | K7: MONTO AÑO 2020 | L7: MONTO AÑO 2021 | M7: MONTO AÑO 2023 | N7: MONTO AÑO 2024 | O7: MONTO AL 31 ENERO 2025 | P7: MONTO AL 28 FEBRERO 2025 | Q7: MONTO AL 31 MARZO 2025 | R7: MONTO AL 31 JULIO 2025 | S7: MONTO AL 31 JULIO 2024 | T7: MONTO AL 31 DE AGOSTO 2025 | U7: MONTO AL 30 SEPTIEMBRE 2024 | V7: MONTO AL 31 DE OCTUBRE 2024 | W7: MONTO AL 30 NOVIEMBRE 2024 | X7: MONTO AL 31 DICIEMBRE 2024 | Y7: TOTAL ADEUDA
A8: 1 | B8: ALQUILERES JEREZ | C8: ALQUILERES DE SILLAS | D8: VS | E8: 0 | F8: 0 | G8: 0 | H8: 0 | I8: 0 | J8: 0 | K8: 2300 | L8: 0 | M8: 0 | N8: 0 | O8: =203107.36+30977.46+202834.96+27210.31-464130.09 -> 0 | P8: 0 | Q8: 0 | R8: 0 | S8: 0 | T8: 0 | U8: 0 | V8: 0 | W8: 0 | X8: 0 | Y8: =SUM(E8:X8) -> 2300
A9: 2 | B9: ABREU LANTIGUA EVENTS | C9: SER. ALIMENTACION | D9: VS | E9: 0 | F9: 0 | G9: 0 | H9: 0 | I9: 0 | J9: 0 | K9: 0 | L9: 0 | M9: 0 | N9: 0 | O9: =203107.36+30977.46+202834.96+27210.31-464130.09 -> 0 | P9: 0 | Q9: 0 | S9: 0 | T9: =15623+24780 -> 40403 | U9: 0 | V9: 0 | X9: 0 | Y9: =SUM(E9:X9) -> 40403
A10: 3 | B10: AGUA FARES | R10: =3675+4300 -> 7975 | T10: =3450+3495+4665+4050+1200 -> 16860 | Y10: =SUM(E10:X10) -> 24835
A11: 4 | B11: ARGOS FARMCAEUTICA | T11: 14900 | Y11: =SUM(E11:X11) -> 14900
A12: 5 | B12: A&M PLOMERIA | Q12: 0 | R12: =4010+37458.65-41468.65 -> 0 | T12: =73677.63+14815.01 -> 88492.64 | Y12: =SUM(E12:X12) -> 88492.64
A13: 6 | B13: BIO-NUCLEAR | R13: =139925.5-139925.5 -> 0 | T13: =238261.4-13500.5+13500.5+21073-238261.4 -> 21073 | Y13: =SUM(E13:X13) -> 21073
A14: 7 | B14: BP MEDICAL | T14: =26066.2 -> 26066.2 | Y14: =SUM(E14:X14) -> 26066.2
A15: 8 | B15: CARNICERIA DARIO | C15: CARNES DE CERDO Y RES | D15: VS | E15: 0 | F15: 0 | G15: 0 | H15: 0 | I15: 0 | J15: 0 | K15: 62121.25 | L15: 0 | M15: 0 | N15: 0 | O15: 0 | P15: 0 | Q15: 0 | R15: 0 | S15: 0 | T15: 0 | U15: 0 | V15: 0 | W15: 0 | X15: 0 | Y15: =SUM(E15:X15) -> 62121.25
A16: 9 | B16: CETIOSA,EIRL | C16: COMBUSTIBLES | D16: VS | E16: 0 | F16: 0 | G16: 0 | H16: 0 | I16: 0 | J16: 0 | K16: 0 | L16: 0 | M16: 0 | N16: 0 | O16: 0 | P16: 0 | Q16: =502275-502275 -> 0 | R16: =820580-820580 -> 0 | S16: =286046+28503-314549 -> 0 | T16: =707940-2800 -> 705140 | U16: =438851-438851 -> 0 | V16: 0 | W16: =340729-340729 -> 0 | X16: 0 | Y16: =SUM(E16:X16) -> 705140
A17: 10 | B17: CENTRO MEDICO | C17: MEDICAMENTOS | D17: VS | E17: 0 | F17: 0 | G17: 0 | H17: 0 | I17: =7954 -> 7954 | J17: 1280 | K17: 0 | L17: 0 | M17: 0 | N17: 0 | O17: 0 | P17: 0 | Q17: 0 | R17: 0 | S17: 0 | T17: 0 | U17: 0 | V17: 0 | W17: 0 | X17: 0 | Y17: =SUM(E17:X17) -> 9234
A18: 11 | B18: CENTRO PLAZA LA FERIA | C18: ELECTRODOMESTICO | D18: VS | E18: 8000 | F18: 0 | G18: 0 | H18: 0 | I18: 0 | J18: 0 | K18: 0 | L18: 0 | M18: 0 | N18: 0 | O18: 0 | P18: 0 | Q18: 0 | R18: 0 | S18: 0 | T18: 0 | U18: 0 | V18: 0 | W18: 0 | X18: 0 | Y18: =SUM(E18:X18) -> 8000
A19: 12 | B19: CELCA DISPLAY SRL | C19: ELABORACION DE CAUNTER | D19: VS | E19: 0 | F19: 0 | G19: 0 | H19: 0 | I19: 0 | J19: 0 | K19: 0 | L19: 0 | M19: 0 | N19: =135582 -> 135582 | O19: 0 | P19: 0 | Q19: 0 | W19: =135582 -> 135582 | Y19: =135582 -> 135582
A20: 13 | B20: COMPUTINTA | C20: MATERIAL DE INFORAMATICA | D20: VS | E20: 0 | F20: 4720 | G20: 32568 | H20: 6372 | I20: 0 | J20: 0 | K20: 0 | L20: 0 | M20: 0 | N20: 0 | O20: 0 | P20: 0 | Q20: 0 | R20: 0 | S20: 0 | T20: 0 | U20: 0 | V20: 0 | W20: 0 | X20: 0 | Y20: =SUM(E20:X20) -> 43660
A21: 14 | B21: EDITORA PUNTO CENTRAL | C21: IMPRESOS | D21: VS | E21: 0 | F21: 0 | G21: 0 | H21: 0 | I21: 0 | J21: 0 | K21: 0 | L21: 0 | M21: =47790 -> 47790 | N21: 0 | O21: 0 | P21: 0 | Q21: 0 | Y21: =SUM(E21:X21) -> 47790
A22: 15 | B22: EVELYN FLOR | C22: SUM.FLORES DIA DE DUARTE | D22: VS | E22: 0 | F22: 0 | G22: 0 | H22: 0 | I22: 0 | J22: 0 | K22: 2366 | L22: 0 | M22: 0 | N22: 0 | O22: 0 | P22: 0 | Q22: 0 | R22: 0 | S22: 0 | T22: 0 | U22: 0 | V22: 0 | W22: 0 | X22: 0 | Y22: =SUM(E22:X22) -> 2366
A23: 16 | B23: FARMACIA ELYFIOR | R23: 0 | T23: =7215+1282.11 -> 8497.11 | Y23: =SUM(E23:X23) -> 8497.11
A24: 17 | B24: FHEYAMS SERVICES SUPPLIER | C24: UNIFORMES | D24: VS | E24: 0 | F24: 0 | G24: 0 | H24: 0 | I24: 0 | J24: 0 | K24: 0 | L24: 0 | M24: 0 | N24: =649547.52-324773.76 -> 324773.76 | O24: 0 | P24: 0 | Q24: 0 | X24: 0 | Y24: =SUM(E24:X24) -> 324773.76
A25: 18 | B25: GRAFINOR | C25: IMPRESOS | D25: VS | E25: 0 | F25: 0 | G25: 0 | H25: 0 | I25: 0 | J25: 62627.09 | K25: 141092.6 | L25: 0 | M25: 0 | N25: 0 | O25: 0 | P25: 0 | Q25: 0 | R25: 0 | S25: 0 | T25: 0 | U25: 0 | V25: 0 | W25: 0 | X25: 0 | Y25: =SUM(E25:X25) -> 203719.69
A26: 19 | B26: HOSPIFAR,SRL | C26: MEDICAMENTOS | D26: VS | E26: 0 | F26: 0 | G26: 0 | H26: 0 | I26: 0 | J26: 0 | K26: 0 | L26: 0 | M26: 0 | N26: 0 | O26: 0 | P26: 0 | Q26: 0 | R26: =68703.83+80395.46-149099.29 -> 0 | S26: 0 | T26: =77493.01+87839.2 -> 165332.21 | U26: =187231.8+16400-203631.8 -> 0 | V26: =32040+42904.8-74944.8 -> 0 | W26: 0 | X26: =70451+50216-120667 -> 0 | Y26: =SUM(E26:X26) -> 165332.21
A27: 20 | B27: HNOS.PIMENTEL | C27: ALIMENTOS | D27: VS | E27: 118365.5 | F27: 0 | G27: 0 | H27: 0 | I27: 0 | J27: 0 | K27: 0 | L27: 0 | M27: 0 | N27: 0 | O27: 0 | P27: 0 | Q27: 0 | R27: 0 | S27: 0 | T27: 0 | U27: 0 | V27: 0 | W27: 0 | X27: 0 | Y27: =SUM(E27:X27) -> 118365.5
A28: 21 | B28: IMPRESOS R&R | C28: IMPRESOS | D28: VS | E28: 0 | F28: =48380 -> 48380 | G28: =188328 -> 188328 | H28: 0 | I28: 0 | J28: 0 | K28: 0 | L28: 0 | M28: 0 | N28: 0 | O28: 0 | P28: 0 | Q28: 0 | R28: 0 | S28: 0 | T28: 0 | U28: 0 | V28: 0 | W28: 0 | X28: 0 | Y28: =SUM(E28:X28) -> 236708
A29: 22 | B29: JAYCO BOUTIQUE | R29: =2655-2655 -> 0 | T29: =39176 -> 39176 | Y29: =SUM(E29:X29) -> 39176
A30: 23 | B30: JOSE FERNANDEZ | C30: MANT.EQ.LABORATORIO | D30: VS | E30: 0 | F30: 0 | G30: 4602 | H30: 0 | I30: 0 | J30: 0 | K30: 0 | L30: 0 | M30: 0 | N30: 0 | O30: 0 | P30: 0 | Q30: 0 | R30: 0 | S30: 0 | T30: 0 | U30: 0 | V30: 0 | W30: 0 | X30: 0 | Y30: =SUM(E30:X30) -> 4602
A31: 24 | B31: KARYBERTH TECHNOLOGY | R31: =27652.67 -> 27652.67 | T31: =9671.53+27652.67+14744.95+5890.01 -> 57959.16 | Y31: =SUM(E31:X31) -> 85611.83
A32: 25 | B32: LAB. BIOMEDICA | C32: REACTIVO DE LABORATORIO | D32: VS | E32: 0 | F32: =77245.94 -> 77245.94 | G32: =26525 -> 26525 | H32: 0 | I32: 0 | J32: 0 | K32: 0 | L32: 0 | M32: 0 | N32: 0 | O32: 0 | P32: 0 | Q32: 0 | R32: 0 | S32: 0 | T32: 0 | U32: 0 | V32: 0 | W32: 0 | X32: 0 | Y32: =SUM(E32:X32) -> 103770.94
A33: 26 | B33: LAB.CLINICO MARIA F.M | C33: COMPRA DE SANGRE | D33: VS | E33: 0 | F33: 0 | G33: 0 | H33: 0 | I33: 0 | J33: 0 | K33: 30500 | L33: 0 | M33: 0 | N33: 0 | O33: 0 | P33: 0 | Q33: 0 | R33: 0 | S33: 0 | T33: 0 | U33: 0 | V33: 0 | W33: 0 | X33: 0 | Y33: =SUM(E33:X33) -> 30500
A34: 27 | B34: LUIS MIGUEL ESTEVEZ | C34: SERVICIO DE ALIMENTACION | D34: VS | E34: 0 | F34: 0 | G34: 0 | H34: 0 | I34: 0 | J34: 0 | K34: 2500 | L34: 0 | M34: 0 | N34: 0 | O34: 0 | P34: 0 | Q34: 0 | R34: 0 | S34: 0 | T34: 0 | U34: 0 | V34: 0 | W34: 0 | X34: 0 | Y34: =SUM(E34:X34) -> 2500
A35: 28 | B35: MIX AIR DOMINICANA | R35: =155550-155550 -> 0 | T35: =175000+125000 -> 300000 | Y35: =SUM(E35:X35) -> 300000
A36: 29 | B36: MULTICENTRO EL MANA | C36: MATERIAL DE LIMPIEZA | D36: VS | E36: 0 | F36: 0 | G36: 0 | H36: 0 | I36: 0 | J36: 0 | K36: 0 | L36: 0 | M36: 0 | N36: 0 | O36: 0 | P36: 0 | Q36: 0 | R36: 0 | S36: 0 | T36: =4725 -> 4725 | U36: =3980-3980 -> 0 | V36: =6395+51715-58110 -> 0 | W36: 0 | X36: 0 | Y36: =SUM(E36:X36) -> 4725
A37: 30 | B37: MULTI SERVICIOS MAO | C37: ALQUILRES | D37: VS | E37: 0 | F37: 0 | G37: 0 | H37: 0 | I37: 0 | J37: 0 | K37: 0 | L37: =1298 -> 1298 | M37: 0 | N37: 0 | O37: 0 | P37: 0 | Q37: 0 | R37: 0 | S37: 0 | T37: 0 | U37: 0 | V37: 0 | W37: 0 | X37: 0 | Y37: =SUM(E37:X37) -> 1298
A38: 31 | B38: MULTIGESTIONES YAVIC | T38: =157246.8 -> 157246.8 | Y38: =SUM(E38:X38) -> 157246.8
A39: 32 | B39: OXIGENOS EL CHINO | C39: OXIGENOS MEDICO | D39: VS | E39: 0 | F39: 0 | G39: =107165 -> 107165 | H39: 0 | I39: 0 | J39: 0 | K39: 0 | L39: 0 | M39: 0 | N39: 0 | O39: 0 | P39: 0 | Q39: 0 | R39: 0 | S39: 0 | T39: 0 | U39: 0 | V39: 0 | W39: 0 | X39: 0 | Y39: =SUM(E39:X39) -> 107165
A40: 33 | B40: Repuestos Danilo Santos | C40: MANT.EQ. TRANSPORTE | D40: VS | E40: 0 | F40: 0 | G40: =5245.28 -> 5245.28 | H40: 425 | I40: 0 | J40: 0 | K40: 0 | L40: 0 | M40: 0 | N40: 0 | O40: 0 | P40: 0 | Q40: 0 | R40: 0 | S40: 0 | T40: 0 | U40: 0 | V40: 0 | W40: 0 | X40: 0 | Y40: =SUM(E40:X40) -> 5670.28
A41: 34 | B41: REMIFAR COMERCIAL | C41: MEDICAMENTOS | D41: VS | E41: 0 | F41: 0 | G41: 0 | H41: 0 | I41: =51490 -> 51490 | J41: 0 | K41: 0 | L41: 0 | M41: 0 | N41: 0 | O41: 0 | P41: 0 | Q41: 0 | R41: 0 | S41: 0 | T41: 0 | U41: 0 | V41: 0 | W41: 0 | X41: 0 | Y41: =SUM(E41:X41) -> 51490
A42: 35 | B42: RONNY PUBLIICIDAD | T42: =283200 -> 283200 | Y42: =SUM(E42:X42) -> 283200
...

Sheet DEUDA SUP.
C4: SERVICIO NACIONAL DE SALUD
B5: LISTADO DE DEUDAS PENDIENTES DE PAGO AÑO FISCAL 2013 HASTA 31 DE AGOSTO 2025
E6: REGION
D7: IV | E7: 4
D8: HOSPITAL REGIONAL ING. LUIS L. BOGAERT
B9: FECHA | C9: ORDEN DE | D9: NO. DE FACTURA | E9: INTERESADO | F9: CONCEPTO | G9: VALOR RD $
C10: COMPRA
E11: ALQUILER JEREZ | G11: 0
B12: 44081 | C12: 462-2020 | D12: B1500000259 | E12: ALQUILER JEREZ | F12: SUM.ALQUILER | G12: 2300
F13: SUB-TOTAL | G13: =G12 -> 2300
E14: ABREU LANTIGUA EVENTOS
B15: 45896 | C15: 635-2025 | D15: B1500000176 | E15: ABREU LANTIGUA EVENTOS | F15: SUM. DE ALIMENTOS | G15: 15623
B16: 45898 | C16: 638-2025 | D16: B1500000177 | E16: ABREU LANTIGUA EVENTOS | F16: SUM. DE ALIMENTOS | G16: 24780
F17: SUB-TOTAL | G17: =G15+G16 -> 40403
E18: A&M PLOMERIA
B19: 45880 | C19: 593-2025 | D19: E450000000080 | E19: A&M PLOMERIA | F19: SUM.FERRETEROS | G19: 73677.63
B20: 45898 | C20: 639-2025 | D20: E450000000149 | E20: A&M PLOMERIA | F20: SUM. ELECTRICOS | G20: 14815.01
F21: SUB-TOTAL | G21: =SUM(G19:G20) -> 88492.64
E22: AGUA FARES
B23: 45861 | D23: 29688 | E23: AGUA FARES | F23: SUM.AGUA | G23: 3675
B24: 45867 | D24: 29965 | E24: AGUA FARES | F24: SUM.AGUA | G24: 4300
B25: 45875 | D25: 29984 | E25: AGUA FARES | F25: SUM.AGUA | G25: 3450
B26: 45882 | D26: 30061 | E26: AGUA FARES | F26: SUM.AGUA | G26: 3495
B27: 45889 | D27: 30080 | E27: AGUA FARES | F27: SUM.AGUA | G27: 4665
B28: 45896 | D28: 30303 | E28: AGUA FARES | F28: SUM.AGUA | G28: 4050
B29: 45899 | D29: 30312 | E29: AGUA FARES | F29: SUM.AGUA | G29: 1200
F30: SUB-TOTAL | G30: =SUM(G23:G29) -> 24835
E31: ARCADIO ESPINAL
B32: 45894 | C32: 624-2025 | D32: B1500003197 | E32: ARCADIO ESPINAL | F32: SUM. Y MANT. DE AIRES | G32: 14900
F33: SUB-TOTAL | G33: =+G32 -> 14900
E34: BP MEDICAL
B35: 45889 | C35: 619-2025 | D35: B1500000503 | E35: BP MEDICAL | F35: SUM. MANT. EQUIPO MEDICO | G35: 26066.2
F36: SUB-TOTAL | G36: =G35 -> 26066.2
E37: AYUNTAMINETO
E38: AYUNTAMIENTO | F38: REC. DESECHOS SOLIDOS | G38: 0
E39: AYUNTAMIENTO | F39: REC. DESECHOS SOLIDOS | G39: 0
F40: SUB-TOTAL | G40: =G38+G39 -> 0
E41: ARTELUZ
E42: ARTELUZ | F42: SERV. DE ALQUILER | G42: 0
F43: SUB-TOTAL | G43: =+G42 -> 0
...

Sheet Plantilla Presupuesto
A1: SERVICIO NACIONAL DE SALUD
A2: HOSPITAL REGIONAL ING. LUIS L. BOGAERT
A3: REGION 4
A4: CONSOLIDADO GASTOS EJECUCION FINANCIERA 2025
A5: En RD$
A7: Detalle | B7: FONDO REPONIBLE | G7: VENTA SEVICIOS/OTROS APORTES | L7: TOTAL
A8: 2 - GASTOS | B8: 1ro | C8: 2do | D8: 3ro | E8: 4to | G8: 1ro | H8: 2do | I8: 3ro | J8: 4to | L8: 1ro | M8: 2do | N8: 3ro | O8: 4to
A9: 2.1 - REMUNERACIONES Y CONTRIBUCIONES | B9: =SUM(B10:B14) -> 0 | C9: =SUM(C10:C14) -> 0 | D9: =SUM(D10:D14) -> 0 | E9: =SUM(E10:E14) -> 0 | G9: =SUM(G10:G14) -> 3465184 | H9: =SUM(H10:H14) -> 0 | I9: =SUM(I10:I14) -> 0 | J9: =SUM(J10:J14) -> 0 | L9: =SUM(B9+G9) -> 3465184 | M9: =SUM(C9+H9) -> 0 | N9: =SUM(D9+I9) -> 0 | O9: =SUM(E9+J9) -> 0
A10: 2.1.1 - REMUNERACIONES | B10: =FR!C10+FR!D10+FR!E10 -> 0 | C10: =FR!F10+FR!G10+FR!H10 -> 0 | D10: =FR!I10+FR!J10+FR!K10 -> 0 | E10: =FR!L10+FR!M10+FR!N10 -> 0 | G10: =VS!C10+VS!D10+VS!E10 -> 0 | H10: =VS!F10+VS!G10+VS!H10 -> 0 | I10: =VS!I10+VS!J10+VS!K10 -> 0 | J10: =VS!L10+VS!M10+VS!N10 -> 0 | L10: =SUM(B10+G10) -> 0 | M10: =SUM(C10+H10) -> 0 | N10: =SUM(D10+I10) -> 0 | O10: =SUM(E10+J10) -> 0
A11: 2.1.2 - SOBRESUELDOS | B11: =FR!C11+FR!D11+FR!E11 -> 0 | C11: =FR!F11+FR!G11+FR!H11 -> 0 | D11: =FR!I11+FR!J11+FR!K11 -> 0 | E11: =FR!L11+FR!M11+FR!N11 -> 0 | G11: =VS!C11+VS!D11+VS!E11 -> 3465184 | H11: =VS!F11+VS!G11+VS!H11 -> 0 | I11: =VS!I11+VS!J11+VS!K11 -> 0 | J11: =VS!L11+VS!M11+VS!N11 -> 0 | L11: =SUM(B11+G11) -> 3465184 | M11: =SUM(C11+H11) -> 0 | N11: =SUM(D11+I11) -> 0 | O11: =SUM(E11+J11) -> 0
A12: 2.1.3 - DIETAS Y GASTOS DE REPRESENTACIÓN | B12: =FR!C12+FR!D12+FR!E12 -> 0 | C12: =FR!F12+FR!G12+FR!H12 -> 0 | D12: =FR!I12+FR!J12+FR!K12 -> 0 | E12: =FR!L12+FR!M12+FR!N12 -> 0 | G12: =VS!C12+VS!D12+VS!E12 -> 0 | H12: =VS!F12+VS!G12+VS!H12 -> 0 | I12: =VS!I12+VS!J12+VS!K12 -> 0 | J12: =VS!L12+VS!M12+VS!N12 -> 0 | L12: =SUM(B12+G12) -> 0 | M12: =SUM(C12+H12) -> 0 | N12: =SUM(D12+I12) -> 0 | O12: =SUM(E12+J12) -> 0
A13: 2.1.4 - GRATIFICACIONES Y BONIFICACIONES | B13: =FR!C13+FR!D13+FR!E13 -> 0 | C13: =FR!F13+FR!G13+FR!H13 -> 0 | D13: =FR!I13+FR!J13+FR!K13 -> 0 | E13: =FR!L13+FR!M13+FR!N13 -> 0 | G13: =VS!C13+VS!D13+VS!E13 -> 0 | H13: =VS!F13+VS!G13+VS!H13 -> 0 | I13: =VS!I13+VS!J13+VS!K13 -> 0 | J13: =VS!L13+VS!M13+VS!N13 -> 0 | L13: =SUM(B13+G13) -> 0 | M13: =SUM(C13+H13) -> 0 | N13: =SUM(D13+I13) -> 0 | O13: =SUM(E13+J13) -> 0
A14: 2.1.5 - CONTRIBUCIONES A LA SEGURIDAD SOCIAL | B14: =FR!C14+FR!D14+FR!E14 -> 0 | C14: =FR!F14+FR!G14+FR!H14 -> 0 | D14: =FR!I14+FR!J14+FR!K14 -> 0 | E14: =FR!L14+FR!M14+FR!N14 -> 0 | G14: =VS!C14+VS!D14+VS!E14 -> 0 | H14: =VS!F14+VS!G14+VS!H14 -> 0 | I14: =VS!I14+VS!J14+VS!K14 -> 0 | J14: =VS!L14+VS!M14+VS!N14 -> 0 | L14: =SUM(B14+G14) -> 0 | M14: =SUM(C14+H14) -> 0 | N14: =SUM(D14+I14) -> 0 | O14: =SUM(E14+J14) -> 0
A15: 2.2 - CONTRATACIÓN DE SERVICIOS | B15: =SUM(B16:B24) -> 514826.29 | C15: =SUM(C16:C24) -> 340379.66 | D15: =SUM(D16:D24) -> 0 | E15: =SUM(E16:E24) -> 0 | G15: =SUM(G16:G24) -> 3373590.1 | H15: =SUM(H16:H24) -> 2432472.5 | I15: =SUM(I16:I24) -> 1238287.1 | J15: =SUM(J16:J24) -> 0 | L15: =SUM(B15+G15) -> 3888416.4 | M15: =SUM(C15+H15) -> 2772852.2 | N15: =SUM(D15+I15) -> 1238287.1 | O15: =SUM(E15+J15) -> 0
A16: 2.2.1 - SERVICIOS BÁSICOS | B16: =FR!C16+FR!D16+FR!E16 -> 400686.29 | C16: =FR!F16+FR!G16+FR!H16 -> 259579.66 | D16: =FR!I16+FR!J16+FR!K16 -> 0 | E16: =FR!L16+FR!M16+FR!N16 -> 0 | G16: =VS!C16+VS!D16+VS!E16 -> 789173.04 | H16: =VS!F16+VS!G16+VS!H16 -> 67746.39 | I16: =VS!I16+VS!J16+VS!K16 -> 53186.46 | J16: =VS!L16+VS!M16+VS!N16 -> 0 | L16: =SUM(B16+G16) -> 1189859.3 | M16: =SUM(C16+H16) -> 327326.05 | N16: =SUM(D16+I16) -> 53186.46 | O16: =SUM(E16+J16) -> 0
A17: 2.2.2 - PUBLICIDAD, IMPRESIÓN Y ENCUADERNACIÓN | B17: =FR!C17+FR!D17+FR!E17 -> 0 | C17: =FR!F17+FR!G17+FR!H17 -> 0 | D17: =FR!I17+FR!J17+FR!K17 -> 0 | E17: =FR!L17+FR!M17+FR!N17 -> 0 | G17: =VS!C17+VS!D17+VS!E17 -> 569021.99 | H17: =VS!F17+VS!G17+VS!H17 -> 364148 | I17: =VS!I17+VS!J17+VS!K17 -> 408744.92 | J17: =VS!L17+VS!M17+VS!N17 -> 0 | L17: =SUM(B17+G17) -> 569021.99 | M17: =SUM(C17+H17) -> 364148 | N17: =SUM(D17+I17) -> 408744.92 | O17: =SUM(E17+J17) -> 0
A18: 2.2.3 - VIÁTICOS | B18: =FR!C18+FR!D18+FR!E18 -> 110010 | C18: =FR!F18+FR!G18+FR!H18 -> 80800 | D18: =FR!I18+FR!J18+FR!K18 -> 0 | E18: =FR!L18+FR!M18+FR!N18 -> 0 | G18: =VS!C18+VS!D18+VS!E18 -> 0 | H18: =VS!F18+VS!G18+VS!H18 -> 0 | I18: =VS!I18+VS!J18+VS!K18 -> 0 | J18: =VS!L18+VS!M18+VS!N18 -> 0 | L18: =SUM(B18+G18) -> 110010 | M18: =SUM(C18+H18) -> 80800 | N18: =SUM(D18+I18) -> 0 | O18: =SUM(E18+J18) -> 0
A19: 2.2.4 - TRANSPORTE Y ALMACENAJE | B19: =FR!C19+FR!D19+FR!E19 -> 0 | C19: =FR!F19+FR!G19+FR!H19 -> 0 | D19: =FR!I19+FR!J19+FR!K19 -> 0 | E19: =FR!L19+FR!M19+FR!N19 -> 0 | G19: =VS!C19+VS!D19+VS!E19 -> 62441.5 | H19: =VS!F19+VS!G19+VS!H19 -> 0 | I19: =VS!I19+VS!J19+VS!K19 -> 0 | J19: =VS!L19+VS!M19+VS!N19 -> 0 | L19: =SUM(B19+G19) -> 62441.5 | M19: =SUM(C19+H19) -> 0 | N19: =SUM(D19+I19) -> 0 | O19: =SUM(E19+J19) -> 0
A20: 2.2.5 - ALQUILERES Y RENTAS | B20: =FR!C20+FR!D20+FR!E20 -> 0 | C20: =FR!F20+FR!G20+FR!H20 -> 0 | D20: =FR!I20+FR!J20+FR!K20 -> 0 | E20: =FR!L20+FR!M20+FR!N20 -> 0 | G20: =VS!C20+VS!D20+VS!E20 -> 106830 | H20: =VS!F20+VS!G20+VS!H20 -> 86000 | I20: =VS!I20+VS!J20+VS!K20 -> 70136.54 | J20: =VS!L20+VS!M20+VS!N20 -> 0 | L20: =SUM(B20+G20) -> 106830 | M20: =SUM(C20+H20) -> 86000 | N20: =SUM(D20+I20) -> 70136.54 | O20: =SUM(E20+J20) -> 0
A21: 2.2.6 - SEGUROS | B21: =FR!C21+FR!D21+FR!E21 -> 0 | C21: =FR!F21+FR!G21+FR!H21 -> 0 | D21: =FR!I21+FR!J21+FR!K21 -> 0 | E21: =FR!L21+FR!M21+FR!N21 -> 0 | G21: =VS!C21+VS!D21+VS!E21 -> 100000 | H21: =VS!F21+VS!G21+VS!H21 -> 299999.99 | I21: =VS!I21+VS!J21+VS!K21 -> 0 | J21: =VS!L21+VS!M21+VS!N21 -> 0 | L21: =SUM(B21+G21) -> 100000 | M21: =SUM(C21+H21) -> 299999.99 | N21: =SUM(D21+I21) -> 0 | O21: =SUM(E21+J21) -> 0
A22: 2.2.7 - SERVICIOS DE CONSERVACIÓN, REPARACIONES MENORES E INSTALACIONES TEMPORALES | B22: =FR!C22+FR!D22+FR!E22 -> 4130 | C22: =FR!F22+FR!G22+FR!H22 -> 0 | D22: =FR!I22+FR!J22+FR!K22 -> 0 | E22: =FR!L22+FR!M22+FR!N22 -> 0 | G22: =VS!C22+VS!D22+VS!E22 -> 602542.12 | H22: =VS!F22+VS!G22+VS!H22 -> 510314.62 | I22: =VS!I22+VS!J22+VS!K22 -> 254099.5 | J22: =VS!L22+VS!M22+VS!N22 -> 0 | L22: =SUM(B22+G22) -> 606672.12 | M22: =SUM(C22+H22) -> 510314.62 | N22: =SUM(D22+I22) -> 254099.5 | O22: =SUM(E22+J22) -> 0
A23: 2.2.8 - OTROS SERVICIOS NO INCLUIDOS EN CONCEPTOS ANTERIORES | B23: =FR!C23+FR!D23+FR!E23 -> 0 | C23: =FR!F23+FR!G23+FR!H23 -> 0 | D23: =FR!I23+FR!J23+FR!K23 -> 0 | E23: =FR!L23+FR!M23+FR!N23 -> 0 | G23: =VS!C23+VS!D23+VS!E23 -> 779846.43 | H23: =VS!F23+VS!G23+VS!H23 -> 754136.5 | I23: =VS!I23+VS!J23+VS!K23 -> 216000 | J23: =VS!L23+VS!M23+VS!N23 -> 0 | L23: =SUM(B23+G23) -> 779846.43 | M23: =SUM(C23+H23) -> 754136.5 | N23: =SUM(D23+I23) -> 216000 | O23: =SUM(E23+J23) -> 0
A24: 2.2.9 - OTRAS CONTRATACIONES DE SERVICIOS | B24: =FR!C24+FR!D24+FR!E24 -> 0 | C24: =FR!F24+FR!G24+FR!H24 -> 0 | D24: =FR!I24+FR!J24+FR!K24 -> 0 | E24: =FR!L24+FR!M24+FR!N24 -> 0 | G24: =VS!C24+VS!D24+VS!E24 -> 363735 | H24: =VS!F24+VS!G24+VS!H24 -> 350127.04 | I24: =VS!I24+VS!J24+VS!K24 -> 236119.65 | J24: =VS!L24+VS!M24+VS!N24 -> 0 | L24: =SUM(B24+G24) -> 363735 | M24: =SUM(C24+H24) -> 350127.04 | N24: =SUM(D24+I24) -> 236119.65 | O24: =SUM(E24+J24) -> 0
A25: 2.3 - MATERIALES Y SUMINISTROS | B25: =SUM(B26:B34) -> 6973367.4 | C25: =SUM(C26:C34) -> 4651768.3 | D25: =SUM(D26:D34) -> 0 | E25: =SUM(E26:E34) -> 0 | G25: =SUM(G26:G34) -> 13144189 | H25: =SUM(H26:H34) -> 10906070 | I25: =SUM(I26:I34) -> 6527927.7 | J25: =SUM(J26:J34) -> 0 | L25: =SUM(B25+G25) -> 20117556 | M25: =SUM(C25+H25) -> 15557839 | N25: =SUM(D25+I25) -> 6527927.7 | O25: =SUM(E25+J25) -> 0
A26: 2.3.1 - ALIMENTOS Y PRODUCTOS AGROFORESTALES | B26: =FR!C26+FR!D26+FR!E26 -> 248192 | C26: =FR!F26+FR!G26+FR!H26 -> 176103 | D26: =FR!I26+FR!J26+FR!K26 -> 0 | E26: =FR!L26+FR!M26+FR!N26 -> 0 | G26: =VS!C26+VS!D26+VS!E26 -> 1196744.8 | H26: =VS!F26+VS!G26+VS!H26 -> 1027090.2 | I26: =VS!I26+VS!J26+VS!K26 -> 935147.67 | J26: =VS!L26+VS!M26+VS!N26 -> 0 | L26: =SUM(B26+G26) -> 1444936.8 | M26: =SUM(C26+H26) -> 1203193.2 | N26: =SUM(D26+I26) -> 935147.67 | O26: =SUM(E26+J26) -> 0
A27: 2.3.2 - TEXTILES Y VESTUARIOS | B27: =FR!C27+FR!D27+FR!E27 -> 0 | C27: =FR!F27+FR!G27+FR!H27 -> 0 | D27: =FR!I27+FR!J27+FR!K27 -> 0 | E27: =FR!L27+FR!M27+FR!N27 -> 0 | G27: =VS!C27+VS!D27+VS!E27 -> 0 | H27: =VS!F27+VS!G27+VS!H27 -> 120314.56 | I27: =VS!I27+VS!J27+VS!K27 -> 950 | J27: =VS!L27+VS!M27+VS!N27 -> 0 | L27: =SUM(B27+G27) -> 0 | M27: =SUM(C27+H27) -> 120314.56 | N27: =SUM(D27+I27) -> 950 | O27: =SUM(E27+J27) -> 0
A28: 2.3.3 - PRODUCTOS DE PAPEL, CARTÓN E IMPRESOS | B28: =FR!C28+FR!D28+FR!E28 -> 0 | C28: =FR!F28+FR!G28+FR!H28 -> 0 | D28: =FR!I28+FR!J28+FR!K28 -> 0 | E28: =FR!L28+FR!M28+FR!N28 -> 0 | G28: =VS!C28+VS!D28+VS!E28 -> 234930.57 | H28: =VS!F28+VS!G28+VS!H28 -> 232746.84 | I28: =VS!I28+VS!J28+VS!K28 -> 283350.24 | J28: =VS!L28+VS!M28+VS!N28 -> 0 | L28: =SUM(B28+G28) -> 234930.57 | M28: =SUM(C28+H28) -> 232746.84 | N28: =SUM(D28+I28) -> 283350.24 | O28: =SUM(E28+J28) -> 0
A29: 2.3.4 - PRODUCTOS FARMACÉUTICOS | B29: =FR!C29+FR!D29+FR!E29 -> 3083768.7 | C29: =FR!F29+FR!G29+FR!H29 -> 1462710 | D29: =FR!I29+FR!J29+FR!K29 -> 0 | E29: =FR!L29+FR!M29+FR!N29 -> 0 | G29: =VS!C29+VS!D29+VS!E29 -> 1896434.3 | H29: =VS!F29+VS!G29+VS!H29 -> 1615333.1 | I29: =VS!I29+VS!J29+VS!K29 -> 508753.61 | J29: =VS!L29+VS!M29+VS!N29 -> 0 | L29: =SUM(B29+G29) -> 4980203 | M29: =SUM(C29+H29) -> 3078043.1 | N29: =SUM(D29+I29) -> 508753.61 | O29: =SUM(E29+J29) -> 0
A30: 2.3.5 - PRODUCTOS DE CUERO, CAUCHO Y PLÁSTICO | B30: =FR!C30+FR!D30+FR!E30 -> 0 | C30: =FR!F30+FR!G30+FR!H30 -> 0 | D30: =FR!I30+FR!J30+FR!K30 -> 0 | E30: =FR!L30+FR!M30+FR!N30 -> 0 | G30: =VS!C30+VS!D30+VS!E30 -> 0 | H30: =VS!F30+VS!G30+VS!H30 -> 14435.53 | I30: =VS!I30+VS!J30+VS!K30 -> 70997.93 | J30: =VS!L30+VS!M30+VS!N30 -> 0 | L30: =SUM(B30+G30) -> 0 | M30: =SUM(C30+H30) -> 14435.53 | N30: =SUM(D30+I30) -> 70997.93 | O30: =SUM(E30+J30) -> 0
A31: 2.3.6 - PRODUCTOS DE MINERALES, METÁLICOS Y NO METÁLICOS | B31: =FR!C31+FR!D31+FR!E31 -> 0 | C31: =FR!F31+FR!G31+FR!H31 -> 0 | D31: =FR!I31+FR!J31+FR!K31 -> 0 | E31: =FR!L31+FR!M31+FR!N31 -> 0 | G31: =VS!C31+VS!D31+VS!E31 -> 51948.8 | H31: =VS!F31+VS!G31+VS!H31 -> 39629.98 | I31: =VS!I31+VS!J31+VS!K31 -> 34199.86 | J31: =VS!L31+VS!M31+VS!N31 -> 0 | L31: =SUM(B31+G31) -> 51948.8 | M31: =SUM(C31+H31) -> 39629.98 | N31: =SUM(D31+I31) -> 34199.86 | O31: =SUM(E31+J31) -> 0
A32: 2.3.7 - COMBUSTIBLES, LUBRICANTES, PRODUCTOS QUÍMICOS Y CONEXOS | B32: =FR!C32+FR!D32+FR!E32 -> 2335026.9 | C32: =FR!F32+FR!G32+FR!H32 -> 1861026.8 | D32: =FR!I32+FR!J32+FR!K32 -> 0 | E32: =FR!L32+FR!M32+FR!N32 -> 0 | G32: =VS!C32+VS!D32+VS!E32 -> 7389229.5 | H32: =VS!F32+VS!G32+VS!H32 -> 5820667.2 | I32: =VS!I32+VS!J32+VS!K32 -> 4012104.2 | J32: =VS!L32+VS!M32+VS!N32 -> 0 | L32: =SUM(B32+G32) -> 9724256.3 | M32: =SUM(C32+H32) -> 7681694 | N32: =SUM(D32+I32) -> 4012104.2 | O32: =SUM(E32+J32) -> 0
A33: 2.3.8 - GASTOS QUE SE ASIGNARÁN DURANTE EL EJERCICIO (ART. 32 Y 33 LEY 423-06) | B33: =FR!C33+FR!D33+FR!E33 -> 0 | C33: =FR!F33+FR!G33+FR!H33 -> 0 | D33: =FR!I33+FR!J33+FR!K33 -> 0 | E33: =FR!L33+FR!M33+FR!N33 -> 0 | G33: =VS!C33+VS!D33+VS!E33 -> 0 | H33: =VS!F33+VS!G33+VS!H33 -> 0 | I33: =VS!I33+VS!J33+VS!K33 -> 0 | J33: =VS!L33+VS!M33+VS!N33 -> 0 | L33: =SUM(B33+G33) -> 0 | M33: =SUM(C33+H33) -> 0 | N33: =SUM(D33+I33) -> 0 | O33: =SUM(E33+J33) -> 0
A34: 2.3.9 - PRODUCTOS Y ÚTILES VARIOS | B34: =FR!C34+FR!D34+FR!E34 -> 1306379.9 | C34: =FR!F34+FR!G34+FR!H34 -> 1151928.4 | D34: =FR!I34+FR!J34+FR!K34 -> 0 | E34: =FR!L34+FR!M34+FR!N34 -> 0 | G34: =VS!C34+VS!D34+VS!E34 -> 2374900.8 | H34: =VS!F34+VS!G34+VS!H34 -> 2035853 | I34: =VS!I34+VS!J34+VS!K34 -> 682424.14 | J34: =VS!L34+VS!M34+VS!N34 -> 0 | L34: =SUM(B34+G34) -> 3681280.6 | M34: =SUM(C34+H34) -> 3187781.5 | N34: =SUM(D34+I34) -> 682424.14 | O34: =SUM(E34+J34) -> 0
A35: 2.4 - TRANSFERENCIAS CORRIENTES | B35: =SUM(B36:B42) -> 0 | C35: =SUM(C36:C42) -> 0 | D35: =SUM(D36:D42) -> 0 | E35: =SUM(E36:E42) -> 0 | G35: =SUM(G36:G42) -> 0 | H35: =SUM(H36:H42) -> 0 | I35: =SUM(I36:I42) -> 0 | J35: =SUM(J36:J42) -> 0 | L35: =SUM(B35+G35) -> 0 | M35: =SUM(C35+H35) -> 0 | N35: =SUM(D35+I35) -> 0 | O35: =SUM(E35+J35) -> 0
A36: 2.4.1 - TRANSFERENCIAS CORRIENTES AL SECTOR PRIVADO | B36: =FR!C36+FR!D36+FR!E36 -> 0 | C36: =FR!F36+FR!G36+FR!H36 -> 0 | D36: =FR!I36+FR!J36+FR!K36 -> 0 | E36: =FR!L36+FR!M36+FR!N36 -> 0 | G36: =VS!C36+VS!D36+VS!E36 -> 0 | H36: =VS!F36+VS!G36+VS!H36 -> 0 | I36: =VS!I36+VS!J36+VS!K36 -> 0 | J36: =VS!L36+VS!M36+VS!N36 -> 0 | L36: =SUM(B36+G36) -> 0 | M36: =SUM(C36+H36) -> 0 | N36: =SUM(D36+I36) -> 0 | O36: =SUM(E36+J36) -> 0
A37: 2.4.2 - TRANSFERENCIAS CORRIENTES AL GOBIERNO GENERAL NACIONAL | B37: =FR!C37+FR!D37+FR!E37 -> 0 | C37: =FR!F37+FR!G37+FR!H37 -> 0 | D37: =FR!I37+FR!J37+FR!K37 -> 0 | E37: =FR!L37+FR!M37+FR!N37 -> 0 | G37: =VS!C37+VS!D37+VS!E37 -> 0 | H37: =VS!F37+VS!G37+VS!H37 -> 0 | I37: =VS!I37+VS!J37+VS!K37 -> 0 | J37: =VS!L37+VS!M37+VS!N37 -> 0 | L37: =SUM(B37+G37) -> 0 | M37: =SUM(C37+H37) -> 0 | N37: =SUM(D37+I37) -> 0 | O37: =SUM(E37+J37) -> 0
A38: 2.4.3 - TRANSFERENCIAS CORRIENTES A GOBIERNOS GENERALES LOCALES | B38: =FR!C38+FR!D38+FR!E38 -> 0 | C38: =FR!F38+FR!G38+FR!H38 -> 0 | D38: =FR!I38+FR!J38+FR!K38 -> 0 | E38: =FR!L38+FR!M38+FR!N38 -> 0 | G38: =VS!C38+VS!D38+VS!E38 -> 0 | H38: =VS!F38+VS!G38+VS!H38 -> 0 | I38: =VS!I38+VS!J38+VS!K38 -> 0 | J38: =VS!L38+VS!M38+VS!N38 -> 0 | L38: =SUM(B38+G38) -> 0 | M38: =SUM(C38+H38) -> 0 | N38: =SUM(D38+I38) -> 0 | O38: =SUM(E38+J38) -> 0
A39: 2.4.4 - TRANSFERENCIAS CORRIENTES A EMPRESAS PÚBLICAS NO FINANCIERAS | B39: =FR!C39+FR!D39+FR!E39 -> 0 | C39: =FR!F39+FR!G39+FR!H39 -> 0 | D39: =FR!I39+FR!J39+FR!K39 -> 0 | E39: =FR!L39+FR!M39+FR!N39 -> 0 | G39: =VS!C39+VS!D39+VS!E39 -> 0 | H39: =VS!F39+VS!G39+VS!H39 -> 0 | I39: =VS!I39+VS!J39+VS!K39 -> 0 | J39: =VS!L39+VS!M39+VS!N39 -> 0 | L39: =SUM(B39+G39) -> 0 | M39: =SUM(C39+H39) -> 0 | N39: =SUM(D39+I39) -> 0 | O39: =SUM(E39+J39) -> 0
A40: 2.4.5 - TRANSFERENCIAS CORRIENTES A INSTITUCIONES PÚBLICAS FINANCIERAS | B40: =FR!C40+FR!D40+FR!E40 -> 0 | C40: =FR!F40+FR!G40+FR!H40 -> 0 | D40: =FR!I40+FR!J40+FR!K40 -> 0 | E40: =FR!L40+FR!M40+FR!N40 -> 0 | G40: =VS!C40+VS!D40+VS!E40 -> 0 | H40: =VS!F40+VS!G40+VS!H40 -> 0 | I40: =VS!I40+VS!J40+VS!K40 -> 0 | J40: =VS!L40+VS!M40+VS!N40 -> 0 | L40: =SUM(B40+G40) -> 0 | M40: =SUM(C40+H40) -> 0 | N40: =SUM(D40+I40) -> 0 | O40: =SUM(E40+J40) -> 0
A41: 2.4.7 - TRANSFERENCIAS CORRIENTES AL SECTOR EXTERNO | B41: =FR!C41+FR!D41+FR!E41 -> 0 | C41: =FR!F41+FR!G41+FR!H41 -> 0 | D41: =FR!I41+FR!J41+FR!K41 -> 0 | E41: =FR!L41+FR!M41+FR!N41 -> 0 | G41: =VS!C41+VS!D41+VS!E41 -> 0 | H41: =VS!F41+VS!G41+VS!H41 -> 0 | I41: =VS!I41+VS!J41+VS!K41 -> 0 | J41: =VS!L41+VS!M41+VS!N41 -> 0 | L41: =SUM(B41+G41) -> 0 | M41: =SUM(C41+H41) -> 0 | N41: =SUM(D41+I41) -> 0 | O41: =SUM(E41+J41) -> 0
...

Sheet FR
A1: SERVICIO NACIONAL DE SALUD
A2: HOSPITAL REGIONAL ING. LUIS L. BOGAERT
A3: REGION 4
A4: EJECUCION DE GASTOS FONDO REPONIBLE 2025
A5: En RD$
A7: Detalle | B7: Total | C7: Enero | D7: Febrero | E7: Marzo | F7: Abril | G7: Mayo | H7: Junio | I7: Julio | J7: Agosto | K7: Septiembre | L7: Octubre | M7: Noviembre | N7: Diciembre
A8: 2 - GASTOS | L8: 0
A9: 2.1 - REMUNERACIONES Y CONTRIBUCIONES | B9: =SUM(C9:N9) -> 0 | C9: =SUM(C10:C14) -> 0 | D9: =SUM(D10:D14) -> 0 | E9: =SUM(E10:E14) -> 0 | F9: =SUM(F10:F14) -> 0 | G9: =SUM(G10:G14) -> 0 | H9: =SUM(H10:H14) -> 0 | I9: =SUM(I10:I14) -> 0 | J9: =SUM(J10:J14) -> 0 | ... N9: =SUM(N10:N14) -> 0
A10: 2.1.1 - REMUNERACIONES | B10: =SUM(C10:N10) -> 0 | I10: 0 | K10: 0 | L10: 0 | M10: 0 | N10: 0
A11: 2.1.2 - SOBRESUELDOS | B11: =SUM(C11:N11) -> 0 | I11: 0 | K11: 0 | L11: 0 | M11: 0 | N11: 0
A12: 2.1.3 - DIETAS Y GASTOS DE REPRESENTACIÓN | B12: =SUM(C12:N12) -> 0 | I12: 0 | K12: 0 | L12: 0 | M12: 0 | N12: 0
A13: 2.1.4 - GRATIFICACIONES Y BONIFICACIONES | B13: =SUM(C13:N13) -> 0 | I13: 0 | K13: 0 | L13: 0 | M13: 0 | N13: 0
A14: 2.1.5 - CONTRIBUCIONES A LA SEGURIDAD SOCIAL | B14: =SUM(C14:N14) -> 0 | I14: 0 | K14: 0 | L14: 0 | M14: 0 | N14: 0
A15: 2.2 - CONTRATACIÓN DE SERVICIOS | B15: =SUM(C15:N15) -> 855205.95 | C15: =SUM(C16:C24) -> 205194.84 | D15: =SUM(D16:D24) -> 165196.9 | E15: =SUM(E16:E24) -> 144434.55 | F15: =SUM(F16:F24) -> 174586.62 | G15: =SUM(G16:G24) -> 165793.04 | H15: =SUM(H16:H24) -> 0 | I15: =SUM(I16:I24) -> 0 | J15: =SUM(J16:J24) -> 0 | ... N15: =SUM(N16:N24) -> 0
A16: 2.2.1 - SERVICIOS BÁSICOS | B16: =SUM(C16:N16) -> 660265.95 | C16: 160034.84 | D16: 125416.9 | E16: 115234.55 | F16: 139286.62 | G16: 120293.04 | H16: 0 | I16: 0 | J16: 0 | K16: 0 | L16: 0 | M16: 0 | N16: 0
A17: 2.2.2 - PUBLICIDAD, IMPRESIÓN Y ENCUADERNACIÓN | B17: =SUM(C17:N17) -> 0 | C17: 0 | D17: 0 | E17: 0 | F17: 0 | G17: 0 | H17: 0 | I17: 0 | J17: 0 | K17: 0 | L17: 0 | M17: 0 | N17: 0
A18: 2.2.3 - VIÁTICOS | B18: =SUM(C18:N18) -> 190810 | C18: =45160 -> 45160 | D18: 35650 | E18: 29200 | F18: 35300 | G18: 45500 | H18: 0 | I18: 0 | J18: 0 | K18: 0 | L18: 0 | M18: 0 | N18: 0
A19: 2.2.4 - TRANSPORTE Y ALMACENAJE | B19: =SUM(C19:N19) -> 0 | C19: 0 | D19: 0 | E19: 0 | F19: 0 | G19: 0 | H19: 0 | I19: 0 | J19: 0 | K19: 0 | L19: 0 | M19: 0 | N19: 0
A20: 2.2.5 - ALQUILERES Y RENTAS | B20: =SUM(C20:N20) -> 0 | C20: 0 | D20: 0 | E20: 0 | F20: 0 | G20: 0 | H20: 0 | I20: 0 | J20: 0 | K20: 0 | L20: 0 | M20: 0 | N20: 0
A21: 2.2.6 - SEGUROS | B21: =SUM(C21:N21) -> 0 | C21: 0 | D21: 0 | E21: 0 | F21: 0 | G21: 0 | H21: 0 | I21: 0 | J21: 0 | K21: 0 | L21: 0 | M21: 0 | N21: 0
A22: 2.2.7 - SERVICIOS DE CONSERVACIÓN, REPARACIONES MENORES E INSTALACIONES TEMPORALES | B22: =SUM(C22:N22) -> 4130 | C22: 0 | D22: =4130 -> 4130 | E22: 0 | F22: 0 | G22: 0 | H22: 0 | I22: 0 | J22: 0 | K22: 0 | L22: 0 | M22: 0 | N22: 0
A23: 2.2.8 - OTROS SERVICIOS NO INCLUIDOS EN CONCEPTOS ANTERIORES | B23: =SUM(C23:N23) -> 0 | C23: 0 | D23: 0 | E23: 0 | F23: 0 | G23: 0 | H23: 0 | I23: 0 | J23: 0 | K23: 0 | L23: 0 | M23: 0 | N23: 0
A24: 2.2.9 - OTRAS CONTRATACIONES DE SERVICIOS | B24: =SUM(C24:N24) -> 0 | C24: 0 | D24: 0 | E24: 0 | F24: 0 | G24: 0 | H24: 0 | I24: 0 | J24: 0 | K24: 0 | L24: 0 | M24: 0 | N24: 0
A25: 2.3 - MATERIALES Y SUMINISTROS | B25: =SUM(C25:N25) -> 11625136 | C25: =SUM(C26:C34) -> 2290886 | D25: =SUM(D26:D34) -> 2330884 | E25: =SUM(E26:E34) -> 2351597.4 | F25: =SUM(F26:F34) -> 2321480.5 | G25: =SUM(G26:G34) -> 2330287.8 | H25: =SUM(H26:H34) -> 0 | I25: =SUM(I26:I34) -> 0 | J25: =SUM(J26:J34) -> 0 | ... N25: =SUM(N26:N34) -> 0
A26: 2.3.1 - ALIMENTOS Y PRODUCTOS AGROFORESTALES | B26: =SUM(C26:N26) -> 424295 | C26: 101714 | D26: 124378 | E26: 22100 | F26: 93403 | G26: 82700 | H26: 0 | I26: 0 | J26: 0 | K26: 0 | L26: 0 | M26: 0 | N26: 0
A27: 2.3.2 - TEXTILES Y VESTUARIOS | B27: =SUM(C27:N27) -> 0 | C27: 0 | D27: 0 | E27: 0 | F27: 0 | G27: 0 | H27: 0 | I27: 0 | J27: 0 | K27: 0 | L27: 0 | M27: 0 | N27: 0
A28: 2.3.3 - PRODUCTOS DE PAPEL, CARTÓN E IMPRESOS | B28: =SUM(C28:N28) -> 0 | C28: 0 | D28: 0 | E28: 0 | F28: 0 | G28: 0 | H28: 0 | I28: 0 | J28: 0 | K28: 0 | L28: 0 | M28: 0 | N28: 0
A29: 2.3.4 - PRODUCTOS FARMACÉUTICOS | B29: =SUM(C29:N29) -> 4546478.7 | C29: 641147.44 | D29: 1076849.2 | E29: 1365772 | F29: 814788.05 | G29: 647921.99 | H29: 0 | I29: 0 | J29: 0 | K29: 0 | L29: 0 | M29: 0 | N29: 0
A30: 2.3.5 - PRODUCTOS DE CUERO, CAUCHO Y PLÁSTICO | B30: =SUM(C30:N30) -> 0 | C30: 0 | D30: 0 | E30: 0 | F30: 0 | G30: 0 | H30: 0 | I30: 0 | J30: 0 | K30: 0 | L30: 0 | M30: 0 | N30: 0
A31: 2.3.6 - PRODUCTOS DE MINERALES, METÁLICOS Y NO METÁLICOS | B31: =SUM(C31:N31) -> 0 | C31: 0 | D31: 0 | E31: 0 | F31: 0 | G31: 0 | H31: 0 | I31: 0 | J31: 0 | K31: 0 | L31: 0 | M31: 0 | N31: 0
A32: 2.3.7 - COMBUSTIBLES, LUBRICANTES, PRODUCTOS QUÍMICOS Y CONEXOS | B32: =SUM(C32:N32) -> 4196053.7 | C32: 798689.14 | D32: 929311.94 | E32: 607025.8 | F32: 855362.84 | G32: 1005664 | H32: 0 | I32: 0 | J32: 0 | K32: 0 | L32: 0 | M32: 0 | N32: 0
A33: 2.3.8 - GASTOS QUE SE ASIGNARÁN DURANTE EL EJERCICIO (ART. 32 Y 33 LEY 423-06) | B33: =SUM(C33:N33) -> 0 | C33: 0 | D33: 0 | E33: 0 | F33: 0 | G33: 0 | H33: 0 | I33: 0 | J33: 0 | K33: 0 | L33: 0 | M33: 0 | N33: 0
A34: 2.3.9 - PRODUCTOS Y ÚTILES VARIOS | B34: =SUM(C34:N34) -> 2458308.3 | C34: =749335.46 -> 749335.46 | D34: =200344.8 -> 200344.8 | E34: 356699.6 | F34: 557926.58 | G34: 594001.85 | H34: 0 | I34: 0 | J34: 0 | K34: 0 | L34: 0 | M34: 0 | N34: 0
A35: 2.4 - TRANSFERENCIAS CORRIENTES | B35: =SUM(C35:N35) -> 0 | C35: =SUM(C36:C42) -> 0 | D35: =SUM(D36:D42) -> 0 | E35: =SUM(E36:E42) -> 0 | F35: =SUM(F36:F42) -> 0 | G35: =SUM(G36:G42) -> 0 | H35: =SUM(H36:H42) -> 0 | I35: =SUM(I36:I42) -> 0 | J35: =SUM(J36:J42) -> 0 | ... N35: =SUM(N36:N42) -> 0
A36: 2.4.1 - TRANSFERENCIAS CORRIENTES AL SECTOR PRIVADO | B36: =SUM(C36:N36) -> 0 | C36: 0 | D36: 0 | E36: 0 | F36: 0 | G36: 0 | H36: 0 | I36: 0 | J36: 0 | K36: 0 | L36: 0 | M36: 0 | N36: 0
A37: 2.4.2 - TRANSFERENCIAS CORRIENTES AL GOBIERNO GENERAL NACIONAL | B37: =SUM(C37:N37) -> 0 | C37: 0 | D37: 0 | E37: 0 | F37: 0 | G37: 0 | H37: 0 | I37: 0 | J37: 0 | K37: 0 | L37: 0 | M37: 0 | N37: 0
A38: 2.4.3 - TRANSFERENCIAS CORRIENTES A GOBIERNOS GENERALES LOCALES | B38: =SUM(C38:N38) -> 0 | C38: 0 | D38: 0 | E38: 0 | F38: 0 | G38: 0 | H38: 0 | I38: 0 | J38: 0 | K38: 0 | L38: 0 | M38: 0 | N38: 0
A39: 2.4.4 - TRANSFERENCIAS CORRIENTES A EMPRESAS PÚBLICAS NO FINANCIERAS | B39: =SUM(C39:N39) -> 0 | C39: 0 | D39: 0 | E39: 0 | F39: 0 | G39: 0 | H39: 0 | I39: 0 | J39: 0 | K39: 0 | L39: 0 | M39: 0 | N39: 0
A40: 2.4.5 - TRANSFERENCIAS CORRIENTES A INSTITUCIONES PÚBLICAS FINANCIERAS | B40: =SUM(C40:N40) -> 0 | C40: 0 | D40: 0 | E40: 0 | F40: 0 | G40: 0 | H40: 0 | I40: 0 | J40: 0 | K40: 0 | L40: 0 | M40: 0 | N40: 0
A41: 2.4.7 - TRANSFERENCIAS CORRIENTES AL SECTOR EXTERNO | B41: =SUM(C41:N41) -> 0 | C41: 0 | D41: 0 | E41: 0 | F41: 0 | G41: 0 | H41: 0 | I41: 0 | J41: 0 | K41: 0 | L41: 0 | M41: 0 | N41: 0
...

Sheet VS
A1: SERVICIO NACIONAL DE SALUD
A2: HOSPITAL REGIONAL ING. LUIS L. BOGAERT
A3: REGION 4
A4: EJECUCUION DE GASTOS VENTA SERVICIOS 2025
A5: En RD$
A7: Detalle | B7: Total | C7: Enero | D7: Febrero | E7: Marzo | F7: Abril | G7: Mayo | H7: Junio | I7: Julio | J7: Agosto | K7: Septiembre | L7: Octubre | M7: Noviembre | N7: Diciembre
A8: 2 - GASTOS
A9: 2.1 - REMUNERACIONES Y CONTRIBUCIONES | B9: =SUM(C9:N9) -> 3465184 | C9: =SUM(C10:C14) -> 0 | D9: =SUM(D10:D14) -> 0 | E9: =SUM(E10:E14) -> 3465184 | F9: =SUM(F10:F14) -> 0 | G9: =SUM(G10:G14) -> 0 | H9: =SUM(H10:H14) -> 0 | I9: =SUM(I10:I14) -> 0 | J9: =SUM(J10:J14) -> 0 | ... N9: =SUM(N10:N14) -> 0
A10: 2.1.1 - REMUNERACIONES | B10: =SUM(C10:N10) -> 0 | C10: 0 | D10: 0 | E10: 0 | F10: 0 | G10: 0 | H10: 0 | I10: 0 | J10: 0 | K10: 0 | L10: 0 | M10: 0 | N10: 0
A11: 2.1.2 - SOBRESUELDOS | B11: =SUM(C11:N11) -> 3465184 | C11: 0 | E11: 3465184 | F11: 0 | G11: 0 | H11: 0 | I11: 0 | J11: 0 | K11: 0 | N11: 0
A12: 2.1.3 - DIETAS Y GASTOS DE REPRESENTACIÓN | B12: =SUM(C12:N12) -> 0 | C12: 0 | D12: 0 | E12: 0 | F12: 0 | G12: 0 | H12: 0 | I12: 0 | J12: 0 | K12: 0 | L12: 0 | M12: 0 | N12: 0
A13: 2.1.4 - GRATIFICACIONES Y BONIFICACIONES | B13: =SUM(C13:N13) -> 0 | C13: 0 | D13: 0 | E13: 0 | F13: 0 | G13: 0 | H13: 0 | I13: 0 | J13: 0 | K13: 0 | L13: 0 | M13: 0 | N13: 0
A14: 2.1.5 - CONTRIBUCIONES A LA SEGURIDAD SOCIAL | B14: =SUM(C14:N14) -> 0 | C14: 0 | D14: 0 | E14: 0 | F14: 0 | G14: 0 | H14: 0 | I14: 0 | J14: 0 | K14: 0 | L14: 0 | M14: 0 | N14: 0
A15: 2.2 - CONTRATACIÓN DE SERVICIOS | B15: =SUM(C15:N15) -> 7044349.7 | C15: =SUM(C16:C24) -> 1115927.8 | D15: =SUM(D16:D24) -> 1134925.6 | E15: =SUM(E16:E24) -> 1122736.6 | F15: =SUM(F16:F24) -> 780298.35 | G15: =SUM(G16:G24) -> 733564.88 | H15: =SUM(H16:H24) -> 918609.31 | I15: =SUM(I16:I24) -> 680232.79 | J15: =SUM(J16:J24) -> 558054.28 | ... N15: =SUM(N16:N24) -> 0
A16: 2.2.1 - SERVICIOS BÁSICOS | B16: =SUM(C16:N16) -> 910105.89 | C16: =126364.99 -> 126364.99 | D16: 276235.85 | E16: 386572.2 | F16: =8531.56 -> 8531.56 | G16: =32240.44 -> 32240.44 | H16: 26974.39 | I16: =26333.6 -> 26333.6 | J16: 26852.86 | K16: 0 | L16: 0 | M16: 0 | N16: 0
A17: 2.2.2 - PUBLICIDAD, IMPRESIÓN Y ENCUADERNACIÓN | B17: =SUM(C17:N17) -> 1341914.9 | C17: 177236 | D17: 188549.99 | E17: 203236 | F17: 195880 | G17: 168268 | H17: 0 | I17: 188092 | J17: 220652.92 | K17: 0 | L17: 0 | M17: 0 | N17: 0
A18: 2.2.3 - VIÁTICOS | B18: =SUM(C18:N18) -> 0 | C18: 0 | D18: 0 | E18: 0 | F18: 0 | G18: 0 | H18: 0 | I18: 0 | J18: 0 | K18: 0 | L18: 0 | M18: 0 | N18: 0
A19: 2.2.4 - TRANSPORTE Y ALMACENAJE | B19: =SUM(C19:N19) -> 62441.5 | C19: 0 | D19: 23430 | E19: 39011.5 | F19: 0 | G19: 0 | H19: 0 | I19: 0 | J19: 0 | K19: 0 | L19: 0 | M19: 0 | N19: 0
A20: 2.2.5 - ALQUILERES Y RENTAS | B20: =SUM(C20:N20) -> 262966.54 | C20: =80830 -> 80830 | D20: 0 | E20: 26000 | F20: 32000 | G20: 0 | H20: 54000 | I20: =41636.54 -> 41636.54 | J20: 28500 | K20: 0 | L20: 0 | M20: 0 | N20: 0
A21: 2.2.6 - SEGUROS | B21: =SUM(C21:N21) -> 399999.99 | C21: 0 | D21: 0 | E21: 100000 | F21: 200000 | G21: 99999.99 | H21: 0 | I21: 0 | J21: 0 | K21: 0 | L21: 0 | M21: 0 | N21: 0
A22: 2.2.7 - SERVICIOS DE CONSERVACIÓN, REPARACIONES MENORES E INSTALACIONES TEMPORALES | B22: =SUM(C22:N22) -> 1366956.2 | C22: =165901.32 -> 165901.32 | D22: 362064.8 | E22: 74576 | F22: 119220 | G22: 193747.2 | H22: 197347.42 | I22: 247099.5 | J22: 7000 | K22: 0 | L22: 0 | M22: 0 | N22: 0
A23: 2.2.8 - OTROS SERVICIOS NO INCLUIDOS EN CONCEPTOS ANTERIORES | B23: =SUM(C23:N23) -> 1749982.9 | C23: 292425.5 | D23: 194080 | E23: 293340.93 | F23: 117300 | G23: 50000 | H23: 586836.5 | I23: 18900 | J23: =197100 -> 197100 | K23: 0 | L23: 0 | M23: 0 | N23: 0
A24: 2.2.9 - OTRAS CONTRATACIONES DE SERVICIOS | B24: =SUM(C24:N24) -> 949981.69 | C24: =273170 -> 273170 | D24: 90565 | E24: 0 | F24: 107366.79 | G24: =189309.25 -> 189309.25 | H24: 53451 | I24: 158171.15 | J24: 77948.5 | K24: 0 | L24: 0 | M24: 0 | N24: 0
A25: 2.3 - MATERIALES Y SUMINISTROS | B25: =SUM(C25:N25) -> 30578187 | C25: =SUM(C26:C34) -> 4332099.6 | D25: =SUM(D26:D34) -> 4805796.8 | E25: =SUM(E26:E34) -> 4006292.3 | F25: =SUM(F26:F34) -> 1736389.1 | G25: =SUM(G26:G34) -> 3666921.2 | H25: =SUM(H26:H34) -> 5502760.2 | I25: =SUM(I26:I34) -> 3661957.1 | J25: =SUM(J26:J34) -> 2865970.5 | ... N25: =SUM(N26:N34) -> 0
A26: 2.3.1 - ALIMENTOS Y PRODUCTOS AGROFORESTALES | B26: =SUM(C26:N26) -> 3158982.7 | C26: =436702.6 -> 436702.6 | D26: 391193.59 | E26: 368848.63 | F26: 164959.77 | G26: =482931.87 -> 482931.87 | H26: 379198.56 | I26: 540075.83 | J26: 395071.84 | K26: 0 | L26: 0 | M26: 0 | N26: 0
A27: 2.3.2 - TEXTILES Y VESTUARIOS | B27: =SUM(C27:N27) -> 121264.56 | C27: 0 | D27: 0 | E27: 0 | F27: 0 | G27: 119579.55 | H27: 735.01 | I27: 950 | J27: 0 | K27: 0 | L27: 0 | M27: 0 | N27: 0
A28: 2.3.3 - PRODUCTOS DE PAPEL, CARTÓN E IMPRESOS | B28: =SUM(C28:N28) -> 751027.65 | C28: 78422 | D28: 125740.8 | E28: 30767.77 | F28: 87230 | G28: 71733 | H28: 73783.84 | I28: 237600.24 | J28: 45750 | K28: 0 | L28: 0 | M28: 0 | N28: 0
A29: 2.3.4 - PRODUCTOS FARMACÉUTICOS | B29: =SUM(C29:N29) -> 4020521 | C29: 1055702 | D29: 654998.16 | E29: 185734.2 | F29: 56466 | G29: 382106.07 | H29: 1176761 | I29: 135068.2 | J29: 373685.41 | K29: 0 | L29: 0 | M29: 0 | N29: 0
A30: 2.3.5 - PRODUCTOS DE CUERO, CAUCHO Y PLÁSTICO | B30: =SUM(C30:N30) -> 85433.46 | C30: 0 | D30: 0 | E30: 0 | F30: 14435.53 | H30: 0 | I30: 70997.93 | J30: 0 | K30: 0 | L30: 0 | M30: 0 | N30: 0
A31: 2.3.6 - PRODUCTOS DE MINERALES, METÁLICOS Y NO METÁLICOS | B31: =SUM(C31:N31) -> 125778.64 | C31: 0 | D31: 50598.8 | E31: 1350 | F31: 23929.98 | G31: =15700 -> 15700 | H31: 0 | I31: 2199.86 | J31: 32000 | K31: 0 | L31: 0 | M31: 0 | N31: 0
A32: 2.3.7 - COMBUSTIBLES, LUBRICANTES, PRODUCTOS QUÍMICOS Y CONEXOS | B32: =SUM(C32:N32) -> 17222001 | C32: 2139687 | D32: 2364863.7 | E32: 2884678.7 | F32: 992809.74 | G32: 2080406.5 | H32: 2747451 | I32: 2173524.8 | J32: 1838579.5 | K32: 0 | L32: 0 | M32: 0 | N32: 0
A33: 2.3.8 - GASTOS QUE SE ASIGNARÁN DURANTE EL EJERCICIO (ART. 32 Y 33 LEY 423-06) | B33: =SUM(C33:N33) -> 0 | C33: 0 | D33: 0 | E33: 0 | F33: 0 | G33: 0 | H33: 0 | I33: 0 | J33: 0 | K33: 0 | L33: 0 | M33: 0 | N33: 0
A34: 2.3.9 - PRODUCTOS Y ÚTILES VARIOS | B34: =SUM(C34:N34) -> 5093178 | C34: 621586 | D34: 1218401.8 | E34: 534912.96 | F34: 396558.13 | G34: 514464.18 | H34: 1124830.7 | I34: 501540.3 | J34: 180883.84 | K34: 0 | L34: 0 | M34: 0 | N34: 0
A35: 2.4 - TRANSFERENCIAS CORRIENTES | B35: =SUM(C35:N35) -> 0 | C35: =SUM(C36:C42) -> 0 | D35: =SUM(D36:D42) -> 0 | E35: =SUM(E36:E42) -> 0 | F35: =SUM(F36:F42) -> 0 | G35: =SUM(G36:G42) -> 0 | H35: =SUM(H36:H42) -> 0 | I35: =SUM(I36:I42) -> 0 | J35: =SUM(J36:J42) -> 0 | ... N35: =SUM(N36:N42) -> 0
A36: 2.4.1 - TRANSFERENCIAS CORRIENTES AL SECTOR PRIVADO | B36: =SUM(C36:N36) -> 0 | C36: 0 | D36: 0 | E36: 0 | F36: 0 | G36: 0 | H36: 0 | I36: 0 | J36: 0 | K36: 0 | L36: 0 | M36: 0 | N36: 0
A37: 2.4.2 - TRANSFERENCIAS CORRIENTES AL GOBIERNO GENERAL NACIONAL | B37: =SUM(C37:N37) -> 0 | C37: 0 | D37: 0 | E37: 0 | F37: 0 | G37: 0 | H37: 0 | I37: 0 | J37: 0 | K37: 0 | L37: 0 | M37: 0 | N37: 0
A38: 2.4.3 - TRANSFERENCIAS CORRIENTES A GOBIERNOS GENERALES LOCALES | B38: =SUM(C38:N38) -> 0 | C38: 0 | D38: 0 | E38: 0 | F38: 0 | G38: 0 | H38: 0 | I38: 0 | J38: 0 | K38: 0 | L38: 0 | M38: 0 | N38: 0
A39: 2.4.4 - TRANSFERENCIAS CORRIENTES A EMPRESAS PÚBLICAS NO FINANCIERAS | B39: =SUM(C39:N39) -> 0 | C39: 0 | D39: 0 | E39: 0 | F39: 0 | G39: 0 | H39: 0 | I39: 0 | J39: 0 | K39: 0 | L39: 0 | M39: 0 | N39: 0
A40: 2.4.5 - TRANSFERENCIAS CORRIENTES A INSTITUCIONES PÚBLICAS FINANCIERAS | B40: =SUM(C40:N40) -> 0 | C40: 0 | D40: 0 | E40: 0 | F40: 0 | G40: 0 | H40: 0 | I40: 0 | J40: 0 | K40: 0 | L40: 0 | M40: 0 | N40: 0
A41: 2.4.7 - TRANSFERENCIAS CORRIENTES AL SECTOR EXTERNO | B41: =SUM(C41:N41) -> 0 | C41: 0 | D41: 0 | E41: 0 | F41: 0 | G41: 0 | H41: 0 | I41: 0 | J41: 0 | K41: 0 | L41: 0 | M41: 0 | N41: 0
...

Sheet Nómina Interna
A2: Servicio Nacional de Salud
A3: Nombre del Establecimiento Hospital Regional Ing. Luis L. Bogaert
A4: Nómina Interna Empleados
A5: Correspondiente al mes de agosto del año 2025
A7: No. | B7: Cedula | C7: Nombre | D7: Apellido | E7: Departamento | F7: Función | G7: Estatus | H7: Grupo | I7: Fecha de inicio del contrato | K7: Sueldo Bruto (RD$) | L7: Seguridad Social (LEY 87-01) | S7: Total Retenciones y Aportes | U7: Sueldo Neto (RD$) | V7: Cuenta Banco
H8: Ocupacional | L8: Seguro de Pensión (9.97%) | N8: Riesgos Laborales (1.3%) (2*) | O8: Seguro de Salud (10.53%) (3*) | Q8: Registro Dependientes Adicionales (4*) | R8: Subtotal TSS | S8: Deducción Empleado | T8: Aportes Patronal
I9: Desde | J9: Hasta | L9: Empleado (2.87%) | M9: Patronal (7.10%) | O9: Empleado (3.04%) | P9: Patronal (7.09%)
A10: 1
J11: TOTAL GENERAL | K11: =SUM(K10:K10) -> 0 | L11: =SUM(L10:L10) -> 0 | M11: =SUM(M10:M10) -> 0 | N11: =SUM(N10:N10) -> 0 | O11: =SUM(O10:O10) -> 0 | P11: =SUM(P10:P10) -> 0 | Q11: =SUM(Q10:Q10) -> 0 | R11: =SUM(R10:R10) -> 0 | ... U11: =SUM(U10:U10) -> 0
B13: Nota: No contamos con nomina Interna, ya que fue desmontada por el SNS.

Sheet RESUMEN GLOSA X POR MES 
A4: Dirección de Fiscalización y Control
A5: HOSPITAL REGIONAL ING. LUIS L. BOGAERT
A6: Glosa Año 2025
A7: Establecimientos | B7: Mes | C7: Facturado | D7: Recibido | E7: Glosado | F7: %
A8: HOSPITAL REG. ING. LUIS L. BOGAERT | B8: ENERO | C8: =5213488.17+611158.71 -> 5824646.9 | D8: 5341500.1 | E8: =C8-D8 -> 483146.74 | F8: =E8/C8 -> 0.082948675
A9: HOSPITAL REG. ING. LUIS L. BOGAERT | B9: FEBRERO | C9: 8325478.6 | D9: 7453704.5 | E9: =C9-D9 -> 871774.15 | F9: =E9/C9 -> 0.1047116
A10: HOSPITAL REG. ING. LUIS L. BOGAERT | B10: MARZO | C10: 6253870.5 | D10: 6025919.5 | E10: =C10-D10 -> 227950.98 | F10: =E10/C10 -> 0.036449585
A11: HOSPITAL REG. ING. LUIS L. BOGAERT | B11: ABRIL | C11: 5323310.1 | D11: 5072289.5 | E11: =C11-D11 -> 251020.59 | F11: =E11/C11 -> 0.047154982
A12: HOSPITAL REG. ING. LUIS L. BOGAERT | B12: MAYO | C12: 7641346.4 | D12: 7370236 | E12: =C12-D12 -> 271110.4 | F12: =E12/C12 -> 0.035479402
A13: HOSPITAL REG. ING. LUIS L. BOGAERT | B13: JUNIO | C13: 4869794.6 | D13: 4765180.4 | E13: =C13-D13 -> 104614.14 | F13: =E13/C13 -> 0.021482249
A14: HOSPITAL REG. ING. LUIS L. BOGAERT | B14: JULIO | C14: 6705684.3 | D14: 6425771.9 | E14: =C14-D14 -> 279912.38 | F14: =E14/C14 -> 0.041742553
A15: HOSPITAL REG. ING. LUIS L. BOGAERT | B15: AGOSTO | C15: 4686425.6 | D15: 4535940.6 | E15: =C15-D15 -> 150485.01 | F15: =E15/C15 -> 0.032110829
A16: HOSPITAL REG. ING. LUIS L. BOGAERT | B16: SEPTIEMBRE | E16: =C16-D16 -> 0 | F16: =E16/C16 -> #DIV/0!
A17: HOSPITAL REG. ING. LUIS L. BOGAERT | B17: OCTUBRE | E17: =C17-D17 -> 0 | F17: =E17/C17 -> #DIV/0!
A18: HOSPITAL REG. ING. LUIS L. BOGAERT | B18: NOVIEMBRE | E18: =C18-D18 -> 0 | F18: =E18/C18 -> #DIV/0!
A19: HOSPITAL REG. ING. LUIS L. BOGAERT | B19: DICIEMBRE | E19: =C19-D19 -> 0 | F19: =E19/C19 -> #DIV/0!
A20: Total | C20: =SUM(C8:C19) -> 49630557 | D20: =SUM(D8:D19) -> 46990543 | E20: =SUM(E8:E19) -> 2640014.4
A21: Nota
A22: Glosa de todas las ARS que recibieron ingreso.

Sheet INGRESO POR FACT. ARS
A1: Servicio Nacional De Salud
A2: Dirección de Fiscalizacion y Control
A3: Ingresos Por Facturación ARS Enero -Diciembre 2025
A6: Establecimiento: HOSPITAL REGIONAL ING. LUIS L. BOGAERT SRS: 4
A8: ARS | C8: ENERO | E8: FEBRERO | G8: MARZO | I8: ABRIL | K8: MAYO | M8: JUNIO | O8: JULIO | Q8: AGOSTO | S8: SEPTIEMBRE | U8: OCTUBRE | W8: NOVIEMBRE | Y8: DICIEMBRE | AA8: Total
C9: Facturado | D9: Recibido | E9: Facturado | F9: Recibido | G9: Facturado | H9: Recibido | I9: Facturado | J9: Recibido | K9: Facturado | L9: Recibido | M9: Facturado | N9: Recibido | O9: Facturado | P9: Recibido | Q9: Facturado | R9: Recibido | S9: Facturado | T9: Recibido | U9: Facturado | V9: Recibido | W9: Facturado | X9: Recibido | Y9: Facturado | Z9: Recibido | AA9: Facturado | AB9: Recibido
A10: 1 | B10: SENASA SUBSIDIADO | C10: 4730341.4 | D10: 4440689.7 | E10: 5898441.7 | F10: 4476867.7 | G10: 4779210.7 | H10: 4730341.4 | I10: 4624677.5 | J10: 5898441.7 | K10: 5642448.4 | L10: 4779210.7 | M10: 4186258.3 | N10: =4624677.5 -> 4624677.5 | O10: 4664520.5 | P10: 5642448.4 | Q10: 3720640.5 | R10: 4186258.3 | AA10: =SUM(C10+E10+G10+I10+K10+M10+O10+Q10+S10+U10+W10+Y10) -> 38246539 | AB10: =SUM(D10+F10+H10+J10+L10+N10+P10+R10+T10+V10+X10+Z10) -> 38778935
A11: 2 | B11: SENASA CONTRIBUTIVO | C11: =600360.41 -> 600360.41 | D11: =125614+1594761.44+82000+38485.48 -> 1840860.9 | E11: =1144184.18+23779.97+91500+2400 -> 1261864.1 | F11: =76000+24023.01+1641494.26+59500 -> 1801017.3 | G11: =909705.99+36461.15+109500 -> 1055667.1 | H11: =553808.85+6876.06+38000 -> 598684.91 | I11: =327077.1+12862.82+82500 -> 422439.92 | J11: =91500+1143951.86+23436.31+2400+36461.06 -> 1297749.2 | K11: =1539431.55+47025.84+131807 -> 1718264.4 | L11: =858278.16+109500+12862.82 -> 980640.98 | M11: =322011.04+22466.78+88000 -> 432477.82 | N11: =326365.49+82500 -> 408865.49 | O11: =1065021.8+577570.71+82500 -> 1725092.5 | P11: =131807+476432.68+46912.23+543388.01 -> 1198539.9 | Q11: =569811.51+36797.39+184500 -> 791108.9 | R11: =321230.8+88000+22466.78 -> 431697.58 | AA11: =SUM(C11+E11+G11+I11+K11+M11+O11+Q11+S11+U11+W11+Y11) -> 8007275.2 | AB11: =SUM(D11+F11+H11+J11+L11+N11+P11+R11+T11+V11+X11+Z11) -> 8558056.3
A12: Total SeNaSa | C12: =SUM(C10:C11) -> 5330701.8 | D12: =SUM(D10:D11) -> 6281550.6 | E12: =SUM(E10:E11) -> 7160305.9 | F12: =SUM(F10:F11) -> 6277885 | G12: =SUM(G10:G11) -> 5834877.8 | H12: =SUM(H10:H11) -> 5329026.3 | I12: =SUM(I10:I11) -> 5047117.4 | J12: =SUM(J10:J11) -> 7196191 | ... Z12: =SUM(Z10:Z11) -> 0 | AA12: =SUM(C12+E12+G12+I12+K12+M12+O12+Q12+S12+U12+W12+Y12) -> 46253814 | AB12: =SUM(D12+F12+H12+J12+L12+N12+P12+R12+T12+V12+X12+Z12) -> 47336992
A13: 3 | B13: MAPFRE | C13: 0 | D13: 0 | E13: 0 | F13: 0 | G13: 0 | H13: 0 | AA13: =SUM(C13+E13+G13+I13+K13+M13+O13+Q13+S13+U13+W13+Y13) -> 0 | AB13: =SUM(D13+F13+H13+J13+L13+N13+P13+R13+T13+V13+X13+Z13) -> 0
A14: 4 | B14: ARL | G14: 0 | H14: 0 | AA14: =SUM(C14+E14+G14+I14+K14+M14+O14+Q14+S14+U14+W14+Y14) -> 0 | AB14: =SUM(D14+F14+H14+J14+L14+N14+P14+R14+T14+V14+X14+Z14) -> 0
A15: 3 | B15: RENACER | C15: 0 | D15: 0 | E15: 0 | F15: 0 | G15: 0 | H15: 0 | I15: 0 | J15: 0 | K15: 0 | L15: 0 | M15: 0 | N15: 0 | AA15: =SUM(C15+E15+G15+I15+K15+M15+O15+Q15+S15+U15+W15+Y15) -> 0 | AB15: =SUM(D15+F15+H15+J15+L15+N15+P15+R15+T15+V15+X15+Z15) -> 0
A16: 6 | B16: YUNEN | AA16: =SUM(C16+E16+G16+I16+K16+M16+O16+Q16+S16+U16+W16+Y16) -> 0 | AB16: =SUM(D16+F16+H16+J16+L16+N16+P16+R16+T16+V16+X16+Z16) -> 0
A17: 4 | B17: ARS PRIMERA DE HUMANO | C17: 10798.3 | D17: 47167.62 | E17: 284944.19 | F17: 0 | G17: 22737.38 | H17: =271520.11+17060.31 -> 288580.42 | I17: =25172.05 -> 25172.05 | J17: 22737.38 | K17: 9523.24 | L17: 15096.62 | M17: 146444.29 | N17: 0 | O17: 36158.98 | P17: =9441.06+70577.42 -> 80018.48 | Q17: 24191.26 | R17: 18178 | V17: 0 | W17: 0 | Y17: 0 | Z17: 0 | AA17: =SUM(C17+E17+G17+I17+K17+M17+O17+Q17+S17+U17+W17+Y17) -> 559969.69 | AB17: =SUM(D17+F17+H17+J17+L17+N17+P17+R17+T17+V17+X17+Z17) -> 471778.52
A18: 9 | B18: ARS PLANSALUD BANCO CENTRAL | AA18: =SUM(C18+E18+G18+I18+K18+M18+O18+Q18+S18+U18+W18+Y18) -> 0 | AB18: =SUM(D18+F18+H18+J18+L18+N18+P18+R18+T18+V18+X18+Z18) -> 0
A19: 5 | B19: SEMMA | C19: 0 | D19: 126390.54 | E19: 0 | F19: 10364.2 | G19: 10306 | H19: 0 | I19: 0 | J19: 0 | K19: 0 | L19: 0 | M19: 0 | N19: 0 | P19: =8626 -> 8626 | W19: 0 | Y19: 0 | AA19: =SUM(C19+E19+G19+I19+K19+M19+O19+Q19+S19+U19+W19+Y19) -> 10306 | AB19: =SUM(D19+F19+H19+J19+L19+N19+P19+R19+T19+V19+X19+Z19) -> 145380.74
A20: 6 | B20: APS | C20: 0 | D20: 0 | E20: 0 | F20: 0 | G20: 145882.3 | H20: 0 | I20: 0 | J20: 0 | K20: 0 | L20: 0 | M20: 0 | N20: 0 | Y20: 0 | AA20: =SUM(C20+E20+G20+I20+K20+M20+O20+Q20+S20+U20+W20+Y20) -> 145882.3 | AB20: =SUM(D20+F20+H20+J20+L20+N20+P20+R20+T20+V20+X20+Z20) -> 0
A21: 8 | B21: SALUD SEGURA | AA21: =SUM(C21+E21+G21+I21+K21+M21+O21+Q21+S21+U21+W21+Y21) -> 0 | AB21: =SUM(D21+F21+H21+J21+L21+N21+P21+R21+T21+V21+X21+Z21) -> 0
A22: 9 | B22: CONSTITUCION | AA22: =SUM(C22+E22+G22+I22+K22+M22+O22+Q22+S22+U22+W22+Y22) -> 0 | AB22: =SUM(D22+F22+H22+J22+L22+N22+P22+R22+T22+V22+X22+Z22) -> 0
A23: 10 | B23: META SALUD | AA23: =SUM(C23+E23+G23+I23+K23+M23+O23+Q23+S23+U23+W23+Y23) -> 0 | AB23: =SUM(D23+F23+H23+J23+L23+N23+P23+R23+T23+V23+X23+Z23) -> 0
